BEGIN:VCALENDAR
VERSION:2.0
PRODID:-//Acacia - ECPv6.15.20//NONSGML v1.0//EN
CALSCALE:GREGORIAN
METHOD:PUBLISH
X-ORIGINAL-URL:https://acacia-inc.com
X-WR-CALDESC:Events for Acacia
REFRESH-INTERVAL;VALUE=DURATION:PT1H
X-Robots-Tag:noindex
X-PUBLISHED-TTL:PT1H
BEGIN:VTIMEZONE
TZID:America/New_York
BEGIN:DAYLIGHT
TZOFFSETFROM:-0500
TZOFFSETTO:-0400
TZNAME:EDT
DTSTART:20210314T070000
END:DAYLIGHT
BEGIN:STANDARD
TZOFFSETFROM:-0400
TZOFFSETTO:-0500
TZNAME:EST
DTSTART:20211107T060000
END:STANDARD
BEGIN:DAYLIGHT
TZOFFSETFROM:-0500
TZOFFSETTO:-0400
TZNAME:EDT
DTSTART:20220313T070000
END:DAYLIGHT
BEGIN:STANDARD
TZOFFSETFROM:-0400
TZOFFSETTO:-0500
TZNAME:EST
DTSTART:20221106T060000
END:STANDARD
BEGIN:DAYLIGHT
TZOFFSETFROM:-0500
TZOFFSETTO:-0400
TZNAME:EDT
DTSTART:20230312T070000
END:DAYLIGHT
BEGIN:STANDARD
TZOFFSETFROM:-0400
TZOFFSETTO:-0500
TZNAME:EST
DTSTART:20231105T060000
END:STANDARD
END:VTIMEZONE
BEGIN:VEVENT
DTSTART;VALUE=DATE:20220918
DTEND;VALUE=DATE:20220923
DTSTAMP:20260420T020100
CREATED:20220226T011210Z
LAST-MODIFIED:20240626T174426Z
UID:10000062-1663459200-1663891199@acacia-inc.com
SUMMARY:ECOC 2022
DESCRIPTION:The ECOC Exhibition is the largest optical communications exhibition in Europe\, held each September in a different European city\, the event is the key meeting place for decision makers from across the fibre optic communications technology industry. \nNow approaching its 25th year\, the exhibition now attracts over 6\,000 decision makers from all around the world – bringing together manufacturers\, suppliers and service providers to networking\, gain insights on the latest developments\, new products and trends in the industry. \nAlongside over 300 international exhibitors\, the exhibition is full with interactive features and seminars. Live demonstrations are provided in the FTTx Village and free training sessions cover fusion splicing and fibre preparation tools. The extremely popular Market Focus theatre includes thought provoking presentations from some of the most innovative and forward-thinking companies working in optics today discussing the key issues facing the market. \nSchedule a meeting \n  \n 
URL:https://acacia-inc.com/event/ecoc-2022/
LOCATION:Congress Center Basel\, Messepl. 21\, Basel\, 4058\, Switzerland
CATEGORIES:Event
ATTACH;FMTTYPE=image/jpeg:https://acacia-inc.com/wp-content/uploads/2024/05/ecoc-2022.jpg
END:VEVENT
END:VCALENDAR