BEGIN:VCALENDAR
VERSION:2.0
PRODID:-//Acacia - ECPv6.15.20//NONSGML v1.0//EN
CALSCALE:GREGORIAN
METHOD:PUBLISH
X-WR-CALNAME:Acacia
X-ORIGINAL-URL:https://acacia-inc.com
X-WR-CALDESC:Events for Acacia
REFRESH-INTERVAL;VALUE=DURATION:PT1H
X-Robots-Tag:noindex
X-PUBLISHED-TTL:PT1H
BEGIN:VTIMEZONE
TZID:America/New_York
BEGIN:DAYLIGHT
TZOFFSETFROM:-0500
TZOFFSETTO:-0400
TZNAME:EDT
DTSTART:20190310T070000
END:DAYLIGHT
BEGIN:STANDARD
TZOFFSETFROM:-0400
TZOFFSETTO:-0500
TZNAME:EST
DTSTART:20191103T060000
END:STANDARD
BEGIN:DAYLIGHT
TZOFFSETFROM:-0500
TZOFFSETTO:-0400
TZNAME:EDT
DTSTART:20200308T070000
END:DAYLIGHT
BEGIN:STANDARD
TZOFFSETFROM:-0400
TZOFFSETTO:-0500
TZNAME:EST
DTSTART:20201101T060000
END:STANDARD
BEGIN:DAYLIGHT
TZOFFSETFROM:-0500
TZOFFSETTO:-0400
TZNAME:EDT
DTSTART:20210314T070000
END:DAYLIGHT
BEGIN:STANDARD
TZOFFSETFROM:-0400
TZOFFSETTO:-0500
TZNAME:EST
DTSTART:20211107T060000
END:STANDARD
END:VTIMEZONE
BEGIN:VEVENT
DTSTART;VALUE=DATE:20200119
DTEND;VALUE=DATE:20200123
DTSTAMP:20260419T184426
CREATED:20191011T212216Z
LAST-MODIFIED:20240626T172917Z
UID:10000037-1579392000-1579737599@acacia-inc.com
SUMMARY:PTC'20
DESCRIPTION:PTC’s Annual Conference is a strategic springboard for the global communications industry\, providing all attendees with a three-day platform to focus on planning\, networking\, and discovering what lies ahead for the ICT industry. Start the new year off right and join us in Honolulu\, Hawaii for the Pacific Rim’s premier telecommunications event\, PTC’20: Vision 2020 and Beyond. \nSchedule a meeting
URL:https://acacia-inc.com/event/ptc-20/
LOCATION:Hilton Hawaiian Village at Waikiki Beach Resort\, 2005 Kalia Road\, Honolulu\, HI\, 96815\, United States
CATEGORIES:Event
ATTACH;FMTTYPE=image/jpeg:https://acacia-inc.com/wp-content/uploads/2019/09/ptc-20.jpg
END:VEVENT
END:VCALENDAR