BEGIN:VCALENDAR
VERSION:2.0
PRODID:-//Acacia - ECPv6.15.20//NONSGML v1.0//EN
CALSCALE:GREGORIAN
METHOD:PUBLISH
X-ORIGINAL-URL:https://acacia-inc.com
X-WR-CALDESC:Events for Acacia
REFRESH-INTERVAL;VALUE=DURATION:PT1H
X-Robots-Tag:noindex
X-PUBLISHED-TTL:PT1H
BEGIN:VTIMEZONE
TZID:America/New_York
BEGIN:DAYLIGHT
TZOFFSETFROM:-0500
TZOFFSETTO:-0400
TZNAME:EDT
DTSTART:20180311T070000
END:DAYLIGHT
BEGIN:STANDARD
TZOFFSETFROM:-0400
TZOFFSETTO:-0500
TZNAME:EST
DTSTART:20181104T060000
END:STANDARD
BEGIN:DAYLIGHT
TZOFFSETFROM:-0500
TZOFFSETTO:-0400
TZNAME:EDT
DTSTART:20190310T070000
END:DAYLIGHT
BEGIN:STANDARD
TZOFFSETFROM:-0400
TZOFFSETTO:-0500
TZNAME:EST
DTSTART:20191103T060000
END:STANDARD
BEGIN:DAYLIGHT
TZOFFSETFROM:-0500
TZOFFSETTO:-0400
TZNAME:EDT
DTSTART:20200308T070000
END:DAYLIGHT
BEGIN:STANDARD
TZOFFSETFROM:-0400
TZOFFSETTO:-0500
TZNAME:EST
DTSTART:20201101T060000
END:STANDARD
END:VTIMEZONE
BEGIN:VEVENT
DTSTART;VALUE=DATE:20190505
DTEND;VALUE=DATE:20190511
DTSTAMP:20260424T191941
CREATED:20190429T174254Z
LAST-MODIFIED:20240626T172744Z
UID:10000030-1557014400-1557532799@acacia-inc.com
SUMMARY:CLEO
DESCRIPTION:With comprehensive\, peer-reviewed technical sessions and market-focused programming\, CLEO is the world’s premier international forum to learn about innovative advances\, research and new technologies from the laser science industry. From quantum computing to advanced imaging technologies used to the search for new life and planets in the galaxy\, CLEO brought together all aspects of electro-optic technologies. \nChris Doerr\, Associate Vice President\, Advanced Development at Acacia Communications\, will be presenting on Coherent Silicon Photonic Devices for Communication and Sensing in the Topical Review on Silicon Photonics.\nLearn More
URL:https://acacia-inc.com/event/cleo/
LOCATION:San Jose Convention Center\, 150 West San Carlos Street\, San Jose\, CA\, 95113\, United States
CATEGORIES:Event
ATTACH;FMTTYPE=image/png:https://acacia-inc.com/wp-content/uploads/2019/04/cleo-2019-440-220-1.png
END:VEVENT
END:VCALENDAR